BEGIN:VCALENDAR
VERSION:2.0
PRODID:icalendar-ruby
CALSCALE:GREGORIAN
METHOD:PUBLISH
BEGIN:VTIMEZONE
TZID:Europe/Oslo
BEGIN:DAYLIGHT
DTSTART:20260329T030000
TZOFFSETFROM:+0100
TZOFFSETTO:+0200
RRULE:FREQ=YEARLY;BYDAY=-1SU;BYMONTH=3
TZNAME:CEST
END:DAYLIGHT
BEGIN:STANDARD
DTSTART:20261025T020000
TZOFFSETFROM:+0200
TZOFFSETTO:+0100
RRULE:FREQ=YEARLY;BYDAY=-1SU;BYMONTH=10
TZNAME:CET
END:STANDARD
END:VTIMEZONE
BEGIN:VEVENT
DTSTAMP:20260422T004555Z
UID:1111694
DTSTART;TZID=Europe/Oslo:20260616T200000
DTEND;TZID=Europe/Oslo:20260617T030000
LOCATION:Thormøhlensgt 41b
SEQUENCE:1776794433
SUMMARY:VM Dag 6 (Frankrike v Senegal + Irak v Norge) 
END:VEVENT
END:VCALENDAR
