BEGIN:VCALENDAR
VERSION:2.0
PRODID:icalendar-ruby
CALSCALE:GREGORIAN
METHOD:PUBLISH
BEGIN:VTIMEZONE
TZID:Europe/Oslo
BEGIN:DAYLIGHT
DTSTART:20260329T030000
TZOFFSETFROM:+0100
TZOFFSETTO:+0200
RRULE:FREQ=YEARLY;BYDAY=-1SU;BYMONTH=3
TZNAME:CEST
END:DAYLIGHT
BEGIN:STANDARD
DTSTART:20261025T020000
TZOFFSETFROM:+0200
TZOFFSETTO:+0100
RRULE:FREQ=YEARLY;BYDAY=-1SU;BYMONTH=10
TZNAME:CET
END:STANDARD
END:VTIMEZONE
BEGIN:VEVENT
DTSTAMP:20260422T023040Z
UID:1111696
DTSTART;TZID=Europe/Oslo:20260618T180000
DTEND;TZID=Europe/Oslo:20260619T000100
LOCATION:Thormøhlensgt 41b
SEQUENCE:1776794465
SUMMARY:VM Dag 8 (Tsjekkia v Sør Afrika + Sveits v Bosnia-Herzegovina)
END:VEVENT
END:VCALENDAR
